BEGIN:VCALENDAR
VERSION:2.0
PRODID:-//horsealert.local//NONSGML kigkonsult.se iCalcreator 2.10.5//
CALSCALE:GREGORIAN
X-WR-TIMEZONE:Europe/Dublin
BEGIN:VTIMEZONE
TZID:Etc/GMT-1
BEGIN:STANDARD
DTSTART:20010101T000000
TZOFFSETFROM:+0100
TZOFFSETTO:+0100
TZNAME:GMT +01:00
END:STANDARD
END:VTIMEZONE
BEGIN:VEVENT
UID:20260421T202439CEST-0773I8HViD@horsealert.local
DTSTAMP:20260421T180439Z
CATEGORIES:Horse Alerts
DESCRIPTION:300% First Deposit Bonus At costabingo.com Handicap (Pro-Am Lad
 y Riders' Race)
DTSTART:20170807T180000
LOCATION:England
SUMMARY:Horse Racing:300% First Deposit Bonus At costabingo.com Handicap (P
 ro-Am Lady Riders' Race)
END:VEVENT
END:VCALENDAR
