BEGIN:VCALENDAR
VERSION:2.0
PRODID:-//horsealert.local//NONSGML kigkonsult.se iCalcreator 2.10.5//
CALSCALE:GREGORIAN
X-WR-TIMEZONE:Europe/Dublin
BEGIN:VTIMEZONE
TZID:Etc/GMT-1
BEGIN:STANDARD
DTSTART:20010101T000000
TZOFFSETFROM:+0100
TZOFFSETTO:+0100
TZNAME:GMT +01:00
END:STANDARD
END:VTIMEZONE
BEGIN:VEVENT
UID:20260421T202444CEST-0228P58J6r@horsealert.local
DTSTAMP:20260421T180444Z
CATEGORIES:Horse Alerts
DESCRIPTION:L'Ormarins Queens Plate Oak Tree Stakes (Fillies' Group 3)
DTSTART:20170804T164000
LOCATION:England
SUMMARY:Horse Racing:L'Ormarins Queens Plate Oak Tree Stakes (Fillies' Grou
 p 3)
END:VEVENT
END:VCALENDAR
