BEGIN:VCALENDAR
VERSION:2.0
PRODID:-//horsealert.local//NONSGML kigkonsult.se iCalcreator 2.10.5//
CALSCALE:GREGORIAN
X-WR-TIMEZONE:Europe/Dublin
BEGIN:VTIMEZONE
TZID:Etc/GMT-1
BEGIN:STANDARD
DTSTART:20010101T000000
TZOFFSETFROM:+0100
TZOFFSETTO:+0100
TZNAME:GMT +01:00
END:STANDARD
END:VTIMEZONE
BEGIN:VEVENT
UID:20260421T202845CEST-7690ciCeWN@horsealert.local
DTSTAMP:20260421T180445Z
CATEGORIES:Horse Alerts
DESCRIPTION:Colm Quinn BMW Irish EBF Fillies Maiden
DTSTART:20170801T182500
LOCATION:Eire
SUMMARY:Horse Racing:Colm Quinn BMW Irish EBF Fillies Maiden
END:VEVENT
END:VCALENDAR
