BEGIN:VCALENDAR
VERSION:2.0
PRODID:-//horsealert.local//NONSGML kigkonsult.se iCalcreator 2.10.5//
CALSCALE:GREGORIAN
X-WR-TIMEZONE:Europe/Dublin
BEGIN:VTIMEZONE
TZID:Etc/GMT-1
BEGIN:STANDARD
DTSTART:20010101T000000
TZOFFSETFROM:+0100
TZOFFSETTO:+0100
TZNAME:GMT +01:00
END:STANDARD
END:VTIMEZONE
BEGIN:VEVENT
UID:20260421T215743CEST-27339CVuZV@horsealert.local
DTSTAMP:20260421T190443Z
CATEGORIES:Horse Alerts
DESCRIPTION:Wolverhampton Voted Best Small Racecourse (Midlands) Nursery
DTSTART:20170731T174500
LOCATION:England
SUMMARY:Horse Racing:Wolverhampton Voted Best Small Racecourse (Midlands) N
 ursery
END:VEVENT
END:VCALENDAR
