BEGIN:VCALENDAR
VERSION:2.0
PRODID:-//horsealert.local//NONSGML kigkonsult.se iCalcreator 2.10.5//
CALSCALE:GREGORIAN
X-WR-TIMEZONE:Europe/Dublin
BEGIN:VTIMEZONE
TZID:Etc/GMT-1
BEGIN:STANDARD
DTSTART:20010101T000000
TZOFFSETFROM:+0100
TZOFFSETTO:+0100
TZNAME:GMT +01:00
END:STANDARD
END:VTIMEZONE
BEGIN:VEVENT
UID:20260421T215803CEST-7165WG5t7U@horsealert.local
DTSTAMP:20260421T190403Z
CATEGORIES:Horse Alerts
DESCRIPTION:Sycamore Lodge Equine Hospital Irish European Breeders Fund Mai
 den (Plus 10)
DTSTART:20170729T142000
LOCATION:Eire
SUMMARY:Horse Racing:Sycamore Lodge Equine Hospital Irish European Breeders
  Fund Maiden (Plus 10)
END:VEVENT
END:VCALENDAR
