BEGIN:VCALENDAR
VERSION:2.0
PRODID:-//horsealert.local//NONSGML kigkonsult.se iCalcreator 2.10.5//
CALSCALE:GREGORIAN
X-WR-TIMEZONE:Europe/Dublin
BEGIN:VTIMEZONE
TZID:Etc/GMT-1
BEGIN:STANDARD
DTSTART:20010101T000000
TZOFFSETFROM:+0100
TZOFFSETTO:+0100
TZNAME:GMT +01:00
END:STANDARD
END:VTIMEZONE
BEGIN:VEVENT
UID:20260421T220051CEST-4562jR0oA5@horsealert.local
DTSTAMP:20260421T200451Z
CATEGORIES:Horse Alerts
DESCRIPTION:Princess Margaret Juddmonte Stakes (Fillies' Group 3)
DTSTART:20170729T135000
LOCATION:England
SUMMARY:Horse Racing:Princess Margaret Juddmonte Stakes (Fillies' Group 3)
END:VEVENT
END:VCALENDAR
