BEGIN:VCALENDAR
VERSION:2.0
PRODID:-//horsealert.local//NONSGML kigkonsult.se iCalcreator 2.10.5//
CALSCALE:GREGORIAN
X-WR-TIMEZONE:Europe/Dublin
BEGIN:VTIMEZONE
TZID:Etc/GMT-1
BEGIN:STANDARD
DTSTART:20010101T000000
TZOFFSETFROM:+0100
TZOFFSETTO:+0100
TZNAME:GMT +01:00
END:STANDARD
END:VTIMEZONE
BEGIN:VEVENT
UID:20260421T215605CEST-4685OP3u3I@horsealert.local
DTSTAMP:20260421T190405Z
CATEGORIES:Horse Alerts
DESCRIPTION:Local Parking Security Ltd Fixed Brush Hurdle Series Novices' H
 urdle
DTSTART:20170727T163500
LOCATION:England
SUMMARY:Horse Racing:Local Parking Security Ltd Fixed Brush Hurdle Series N
 ovices' Hurdle
END:VEVENT
END:VCALENDAR
