BEGIN:VCALENDAR
VERSION:2.0
PRODID:-//horsealert.local//NONSGML kigkonsult.se iCalcreator 2.10.5//
CALSCALE:GREGORIAN
X-WR-TIMEZONE:Europe/Dublin
BEGIN:VTIMEZONE
TZID:Etc/GMT-1
BEGIN:STANDARD
DTSTART:20010101T000000
TZOFFSETFROM:+0100
TZOFFSETTO:+0100
TZNAME:GMT +01:00
END:STANDARD
END:VTIMEZONE
BEGIN:VEVENT
UID:20260421T220049CEST-2663cvIBgV@horsealert.local
DTSTAMP:20260421T200449Z
CATEGORIES:Horse Alerts
DESCRIPTION:Longines Irish Champions Weekend EBF Stallions Star Stakes (Fil
 lies' Listed)
DTSTART:20170727T150500
LOCATION:England
SUMMARY:Horse Racing:Longines Irish Champions Weekend EBF Stallions Star St
 akes (Fillies' Listed)
END:VEVENT
END:VCALENDAR
