BEGIN:VCALENDAR
VERSION:2.0
PRODID:-//horsealert.local//NONSGML kigkonsult.se iCalcreator 2.10.5//
CALSCALE:GREGORIAN
X-WR-TIMEZONE:Europe/Dublin
BEGIN:VTIMEZONE
TZID:Etc/GMT-1
BEGIN:STANDARD
DTSTART:20010101T000000
TZOFFSETFROM:+0100
TZOFFSETTO:+0100
TZNAME:GMT +01:00
END:STANDARD
END:VTIMEZONE
BEGIN:VEVENT
UID:20260421T215918CEST-3860tvrK4n@horsealert.local
DTSTAMP:20260421T190418Z
CATEGORIES:Horse Alerts
DESCRIPTION:QTS Ladies Night On 12 August Handicap
DTSTART:20170724T154000
LOCATION:Scotland
SUMMARY:Horse Racing:QTS Ladies Night On 12 August Handicap
END:VEVENT
END:VCALENDAR
