BEGIN:VCALENDAR
VERSION:2.0
PRODID:-//horsealert.local//NONSGML kigkonsult.se iCalcreator 2.10.5//
CALSCALE:GREGORIAN
X-WR-TIMEZONE:Europe/Dublin
BEGIN:VTIMEZONE
TZID:Etc/GMT-1
BEGIN:STANDARD
DTSTART:20010101T000000
TZOFFSETFROM:+0100
TZOFFSETTO:+0100
TZNAME:GMT +01:00
END:STANDARD
END:VTIMEZONE
BEGIN:VEVENT
UID:20260421T220017CEST-8280U7tDC3@horsealert.local
DTSTAMP:20260421T200417Z
CATEGORIES:Horse Alerts
DESCRIPTION:Racing UK Now On TalkTalk TV Classified Claiming Stakes
DTSTART:20170723T160000
LOCATION:England
SUMMARY:Horse Racing:Racing UK Now On TalkTalk TV Classified Claiming Stake
 s
END:VEVENT
END:VCALENDAR
