BEGIN:VCALENDAR
VERSION:2.0
PRODID:-//horsealert.local//NONSGML kigkonsult.se iCalcreator 2.10.5//
CALSCALE:GREGORIAN
X-WR-TIMEZONE:Europe/Dublin
BEGIN:VTIMEZONE
TZID:Etc/GMT-1
BEGIN:STANDARD
DTSTART:20010101T000000
TZOFFSETFROM:+0100
TZOFFSETTO:+0100
TZNAME:GMT +01:00
END:STANDARD
END:VTIMEZONE
BEGIN:VEVENT
UID:20260421T215939CEST-7297sUlw7i@horsealert.local
DTSTAMP:20260421T190439Z
CATEGORIES:Horse Alerts
DESCRIPTION:Michael English Plays Live At Limerick Racecourse July 27th Beg
 inners Chase
DTSTART:20170722T165500
LOCATION:Eire
SUMMARY:Horse Racing:Michael English Plays Live At Limerick Racecourse July
  27th Beginners Chase
END:VEVENT
END:VCALENDAR
