BEGIN:VCALENDAR
VERSION:2.0
PRODID:-//horsealert.local//NONSGML kigkonsult.se iCalcreator 2.10.5//
CALSCALE:GREGORIAN
X-WR-TIMEZONE:Europe/Dublin
BEGIN:VTIMEZONE
TZID:Etc/GMT-1
BEGIN:STANDARD
DTSTART:20010101T000000
TZOFFSETFROM:+0100
TZOFFSETTO:+0100
TZNAME:GMT +01:00
END:STANDARD
END:VTIMEZONE
BEGIN:VEVENT
UID:20260421T215941CEST-0285juKh82@horsealert.local
DTSTAMP:20260421T190441Z
CATEGORIES:Horse Alerts
DESCRIPTION:Killarney Grand Live Music Venue Handicap Hurdle (80-116)
DTSTART:20170720T143500
LOCATION:Eire
SUMMARY:Horse Racing:Killarney Grand Live Music Venue Handicap Hurdle (80-1
 16)
END:VEVENT
END:VCALENDAR
