BEGIN:VCALENDAR
VERSION:2.0
PRODID:-//horsealert.local//NONSGML kigkonsult.se iCalcreator 2.10.5//
CALSCALE:GREGORIAN
X-WR-TIMEZONE:Europe/Dublin
BEGIN:VTIMEZONE
TZID:Etc/GMT-1
BEGIN:STANDARD
DTSTART:20010101T000000
TZOFFSETFROM:+0100
TZOFFSETTO:+0100
TZNAME:GMT +01:00
END:STANDARD
END:VTIMEZONE
BEGIN:VEVENT
UID:20260421T233637CEST-2455B825nl@horsealert.local
DTSTAMP:20260421T210437Z
CATEGORIES:Horse Alerts
DESCRIPTION:J F Daughters\, Prestige Watches & Pawnbrokers Handicap
DTSTART:20170720T193500
LOCATION:England
SUMMARY:Horse Racing:J F Daughters\, Prestige Watches & Pawnbrokers Handica
 p
END:VEVENT
END:VCALENDAR
