BEGIN:VCALENDAR
VERSION:2.0
PRODID:-//horsealert.local//NONSGML kigkonsult.se iCalcreator 2.10.5//
CALSCALE:GREGORIAN
X-WR-TIMEZONE:Europe/Dublin
BEGIN:VTIMEZONE
TZID:Etc/GMT-1
BEGIN:STANDARD
DTSTART:20010101T000000
TZOFFSETFROM:+0100
TZOFFSETTO:+0100
TZNAME:GMT +01:00
END:STANDARD
END:VTIMEZONE
BEGIN:VEVENT
UID:20260421T220020CEST-2818L2zeub@horsealert.local
DTSTAMP:20260421T200420Z
CATEGORIES:Horse Alerts
DESCRIPTION:H Brown & Son Recycling Conditional Jockeys' Maiden Hurdle
DTSTART:20170719T135500
LOCATION:England
SUMMARY:Horse Racing:H Brown & Son Recycling Conditional Jockeys' Maiden Hu
 rdle
END:VEVENT
END:VCALENDAR
