BEGIN:VCALENDAR
VERSION:2.0
PRODID:-//horsealert.local//NONSGML kigkonsult.se iCalcreator 2.10.5//
CALSCALE:GREGORIAN
X-WR-TIMEZONE:Europe/Dublin
BEGIN:VTIMEZONE
TZID:Etc/GMT-1
BEGIN:STANDARD
DTSTART:20010101T000000
TZOFFSETFROM:+0100
TZOFFSETTO:+0100
TZNAME:GMT +01:00
END:STANDARD
END:VTIMEZONE
BEGIN:VEVENT
UID:20260421T220018CEST-3737Uz7DTU@horsealert.local
DTSTAMP:20260421T200418Z
CATEGORIES:Horse Alerts
DESCRIPTION:Injured Jockeys Fund/EBF Fillies' Novice Stakes (AWT) (Plus 10)
DTSTART:20170719T163000
LOCATION:England
SUMMARY:Horse Racing:Injured Jockeys Fund/EBF Fillies' Novice Stakes (AWT) 
 (Plus 10)
END:VEVENT
END:VCALENDAR
