BEGIN:VCALENDAR
VERSION:2.0
PRODID:-//horsealert.local//NONSGML kigkonsult.se iCalcreator 2.10.5//
CALSCALE:GREGORIAN
X-WR-TIMEZONE:Europe/Dublin
BEGIN:VTIMEZONE
TZID:Etc/GMT-1
BEGIN:STANDARD
DTSTART:20010101T000000
TZOFFSETFROM:+0100
TZOFFSETTO:+0100
TZNAME:GMT +01:00
END:STANDARD
END:VTIMEZONE
BEGIN:VEVENT
UID:20260421T215607CEST-7901oDRTMo@horsealert.local
DTSTAMP:20260421T190407Z
CATEGORIES:Horse Alerts
DESCRIPTION:Celtic Steps The Show At Killarney Racecourse Rated Race
DTSTART:20170718T182000
LOCATION:Eire
SUMMARY:Horse Racing:Celtic Steps The Show At Killarney Racecourse Rated Ra
 ce
END:VEVENT
END:VCALENDAR
