BEGIN:VCALENDAR
VERSION:2.0
PRODID:-//horsealert.local//NONSGML kigkonsult.se iCalcreator 2.10.5//
CALSCALE:GREGORIAN
X-WR-TIMEZONE:Europe/Dublin
BEGIN:VTIMEZONE
TZID:Etc/GMT-1
BEGIN:STANDARD
DTSTART:20010101T000000
TZOFFSETFROM:+0100
TZOFFSETTO:+0100
TZNAME:GMT +01:00
END:STANDARD
END:VTIMEZONE
BEGIN:VEVENT
UID:20260421T215441CEST-8829aPt9Vh@horsealert.local
DTSTAMP:20260421T190441Z
CATEGORIES:Horse Alerts
DESCRIPTION:Madame Jean Couturie Listed
DTSTART:20170717T132000
LOCATION:France
SUMMARY:Horse Racing:Madame Jean Couturie Listed
END:VEVENT
END:VCALENDAR
