BEGIN:VCALENDAR
VERSION:2.0
PRODID:-//horsealert.local//NONSGML kigkonsult.se iCalcreator 2.10.5//
CALSCALE:GREGORIAN
X-WR-TIMEZONE:Europe/Dublin
BEGIN:VTIMEZONE
TZID:Etc/GMT-1
BEGIN:STANDARD
DTSTART:20010101T000000
TZOFFSETFROM:+0100
TZOFFSETTO:+0100
TZNAME:GMT +01:00
END:STANDARD
END:VTIMEZONE
BEGIN:VEVENT
UID:20260421T215606CEST-31854vVn7K@horsealert.local
DTSTAMP:20260421T190406Z
CATEGORIES:Horse Alerts
DESCRIPTION:Dabblebet - 'First Acca On Us' Apprentice Maiden Stakes
DTSTART:20170718T181000
LOCATION:England
SUMMARY:Horse Racing:Dabblebet - 'First Acca On Us' Apprentice Maiden Stake
 s
END:VEVENT
END:VCALENDAR
