BEGIN:VCALENDAR
VERSION:2.0
PRODID:-//horsealert.local//NONSGML kigkonsult.se iCalcreator 2.10.5//
CALSCALE:GREGORIAN
X-WR-TIMEZONE:Europe/Dublin
BEGIN:VTIMEZONE
TZID:Etc/GMT-1
BEGIN:STANDARD
DTSTART:20010101T000000
TZOFFSETFROM:+0100
TZOFFSETTO:+0100
TZNAME:GMT +01:00
END:STANDARD
END:VTIMEZONE
BEGIN:VEVENT
UID:20260421T215924CEST-6048PssL74@horsealert.local
DTSTAMP:20260421T190424Z
CATEGORIES:Horse Alerts
DESCRIPTION:totepool Betting On All UK Racing Handicap
DTSTART:20170717T164500
LOCATION:Wales
SUMMARY:Horse Racing:totepool Betting On All UK Racing Handicap
END:VEVENT
END:VCALENDAR
