BEGIN:VCALENDAR
VERSION:2.0
PRODID:-//horsealert.local//NONSGML kigkonsult.se iCalcreator 2.10.5//
CALSCALE:GREGORIAN
X-WR-TIMEZONE:Europe/Dublin
BEGIN:VTIMEZONE
TZID:Etc/GMT-1
BEGIN:STANDARD
DTSTART:20010101T000000
TZOFFSETFROM:+0100
TZOFFSETTO:+0100
TZNAME:GMT +01:00
END:STANDARD
END:VTIMEZONE
BEGIN:VEVENT
UID:20260421T220058CEST-3791s1EbBv@horsealert.local
DTSTAMP:20260421T200458Z
CATEGORIES:Horse Alerts
DESCRIPTION:R.L. Rattrays Limited Handicap Hurdle
DTSTART:20170716T143000
LOCATION:Scotland
SUMMARY:Horse Racing:R.L. Rattrays Limited Handicap Hurdle
END:VEVENT
END:VCALENDAR
