BEGIN:VCALENDAR
VERSION:2.0
PRODID:-//horsealert.local//NONSGML kigkonsult.se iCalcreator 2.10.5//
CALSCALE:GREGORIAN
X-WR-TIMEZONE:Europe/Dublin
BEGIN:VTIMEZONE
TZID:Etc/GMT-1
BEGIN:STANDARD
DTSTART:20010101T000000
TZOFFSETFROM:+0100
TZOFFSETTO:+0100
TZNAME:GMT +01:00
END:STANDARD
END:VTIMEZONE
BEGIN:VEVENT
UID:20260421T220011CEST-1469vUuoU3@horsealert.local
DTSTAMP:20260421T200411Z
CATEGORIES:Horse Alerts
DESCRIPTION:Kilcawley Construction Opportunity Handicap Hurdle (80-123)
DTSTART:20170716T163500
LOCATION:Eire
SUMMARY:Horse Racing:Kilcawley Construction Opportunity Handicap Hurdle (80
 -123)
END:VEVENT
END:VCALENDAR
