BEGIN:VCALENDAR
VERSION:2.0
PRODID:-//horsealert.local//NONSGML kigkonsult.se iCalcreator 2.10.5//
CALSCALE:GREGORIAN
X-WR-TIMEZONE:Europe/Dublin
BEGIN:VTIMEZONE
TZID:Etc/GMT-1
BEGIN:STANDARD
DTSTART:20010101T000000
TZOFFSETFROM:+0100
TZOFFSETTO:+0100
TZNAME:GMT +01:00
END:STANDARD
END:VTIMEZONE
BEGIN:VEVENT
UID:20260421T215744CEST-20954uO1wd@horsealert.local
DTSTAMP:20260421T190444Z
CATEGORIES:Horse Alerts
DESCRIPTION:Hong Kong Racehorse Owners Association Trophy (handicap)
DTSTART:20170716T105000
LOCATION:Hong Kong
SUMMARY:Horse Racing:Hong Kong Racehorse Owners Association Trophy (handica
 p)
END:VEVENT
END:VCALENDAR
