BEGIN:VCALENDAR
VERSION:2.0
PRODID:-//horsealert.local//NONSGML kigkonsult.se iCalcreator 2.10.5//
CALSCALE:GREGORIAN
X-WR-TIMEZONE:Europe/Dublin
BEGIN:VTIMEZONE
TZID:Etc/GMT-1
BEGIN:STANDARD
DTSTART:20010101T000000
TZOFFSETFROM:+0100
TZOFFSETTO:+0100
TZNAME:GMT +01:00
END:STANDARD
END:VTIMEZONE
BEGIN:VEVENT
UID:20260421T215609CEST-6669P1zd6X@horsealert.local
DTSTAMP:20260421T190409Z
CATEGORIES:Horse Alerts
DESCRIPTION:Probably The Best Family Fun Day Ever (C & G) Maiden Hurdle
DTSTART:20170713T154000
LOCATION:Northern Ireland
SUMMARY:Horse Racing:Probably The Best Family Fun Day Ever (C & G) Maiden H
 urdle
END:VEVENT
END:VCALENDAR
