BEGIN:VCALENDAR
VERSION:2.0
PRODID:-//horsealert.local//NONSGML kigkonsult.se iCalcreator 2.10.5//
CALSCALE:GREGORIAN
X-WR-TIMEZONE:Europe/Dublin
BEGIN:VTIMEZONE
TZID:Etc/GMT-1
BEGIN:STANDARD
DTSTART:20010101T000000
TZOFFSETFROM:+0100
TZOFFSETTO:+0100
TZNAME:GMT +01:00
END:STANDARD
END:VTIMEZONE
BEGIN:VEVENT
UID:20260421T220059CEST-1073BWEMew@horsealert.local
DTSTAMP:20260421T200459Z
CATEGORIES:Horse Alerts
DESCRIPTION:We-Fit! Worksop's Insulated Conservatory Roofing Systems Amateu
 r Riders' Handicap
DTSTART:20170713T134000
LOCATION:England
SUMMARY:Horse Racing:We-Fit! Worksop's Insulated Conservatory Roofing Syste
 ms Amateur Riders' Handicap
END:VEVENT
END:VCALENDAR
