BEGIN:VCALENDAR
VERSION:2.0
PRODID:-//horsealert.local//NONSGML kigkonsult.se iCalcreator 2.10.5//
CALSCALE:GREGORIAN
X-WR-TIMEZONE:Europe/Dublin
BEGIN:VTIMEZONE
TZID:Etc/GMT-1
BEGIN:STANDARD
DTSTART:20010101T000000
TZOFFSETFROM:+0100
TZOFFSETTO:+0100
TZNAME:GMT +01:00
END:STANDARD
END:VTIMEZONE
BEGIN:VEVENT
UID:20260421T215953CEST-7941RVupIK@horsealert.local
DTSTAMP:20260421T190453Z
CATEGORIES:Horse Alerts
DESCRIPTION:Open Golf Betting At 188Bet Handicap (Str)
DTSTART:20170712T165500
LOCATION:England
SUMMARY:Horse Racing:Open Golf Betting At 188Bet Handicap (Str)
END:VEVENT
END:VCALENDAR
