BEGIN:VCALENDAR
VERSION:2.0
PRODID:-//horsealert.local//NONSGML kigkonsult.se iCalcreator 2.10.5//
CALSCALE:GREGORIAN
X-WR-TIMEZONE:Europe/Dublin
BEGIN:VTIMEZONE
TZID:Etc/GMT-1
BEGIN:STANDARD
DTSTART:20010101T000000
TZOFFSETFROM:+0100
TZOFFSETTO:+0100
TZNAME:GMT +01:00
END:STANDARD
END:VTIMEZONE
BEGIN:VEVENT
UID:20260421T220053CEST-63471DEC7r@horsealert.local
DTSTAMP:20260421T200453Z
CATEGORIES:Horse Alerts
DESCRIPTION:D'arsy Claiming Stakes
DTSTART:20170710T155500
LOCATION:France
SUMMARY:Horse Racing:D'arsy Claiming Stakes
END:VEVENT
END:VCALENDAR
