BEGIN:VCALENDAR
VERSION:2.0
PRODID:-//horsealert.local//NONSGML kigkonsult.se iCalcreator 2.10.5//
CALSCALE:GREGORIAN
X-WR-TIMEZONE:Europe/Dublin
BEGIN:VTIMEZONE
TZID:Etc/GMT-1
BEGIN:STANDARD
DTSTART:20010101T000000
TZOFFSETFROM:+0100
TZOFFSETTO:+0100
TZNAME:GMT +01:00
END:STANDARD
END:VTIMEZONE
BEGIN:VEVENT
UID:20260421T215945CEST-5084U5zV99@horsealert.local
DTSTAMP:20260421T190445Z
CATEGORIES:Horse Alerts
DESCRIPTION:Limerick Racecourse Family Fun Day Maiden Hurdle
DTSTART:20170709T133000
LOCATION:Eire
SUMMARY:Horse Racing:Limerick Racecourse Family Fun Day Maiden Hurdle
END:VEVENT
END:VCALENDAR
