BEGIN:VCALENDAR
VERSION:2.0
PRODID:-//horsealert.local//NONSGML kigkonsult.se iCalcreator 2.10.5//
CALSCALE:GREGORIAN
X-WR-TIMEZONE:Europe/Dublin
BEGIN:VTIMEZONE
TZID:Etc/GMT-1
BEGIN:STANDARD
DTSTART:20010101T000000
TZOFFSETFROM:+0100
TZOFFSETTO:+0100
TZNAME:GMT +01:00
END:STANDARD
END:VTIMEZONE
BEGIN:VEVENT
UID:20260421T215958CEST-8962jG7Drs@horsealert.local
DTSTAMP:20260421T190458Z
CATEGORIES:Horse Alerts
DESCRIPTION:Bet totequadpot At betfred.com Handicap (Div 2)
DTSTART:20170709T151500
LOCATION:Scotland
SUMMARY:Horse Racing:Bet totequadpot At betfred.com Handicap (Div 2)
END:VEVENT
END:VCALENDAR
