BEGIN:VCALENDAR
VERSION:2.0
PRODID:-//horsealert.local//NONSGML kigkonsult.se iCalcreator 2.10.5//
CALSCALE:GREGORIAN
X-WR-TIMEZONE:Europe/Dublin
BEGIN:VTIMEZONE
TZID:Etc/GMT-1
BEGIN:STANDARD
DTSTART:20010101T000000
TZOFFSETFROM:+0100
TZOFFSETTO:+0100
TZNAME:GMT +01:00
END:STANDARD
END:VTIMEZONE
BEGIN:VEVENT
UID:20260421T215915CEST-454059DOak@horsealert.local
DTSTAMP:20260421T190415Z
CATEGORIES:Horse Alerts
DESCRIPTION:J F Dunne Insurances 40 Year Celebration Handicap (45-65)
DTSTART:20170708T170500
LOCATION:Eire
SUMMARY:Horse Racing:J F Dunne Insurances 40 Year Celebration Handicap (45-
 65)
END:VEVENT
END:VCALENDAR
