BEGIN:VCALENDAR
VERSION:2.0
PRODID:-//horsealert.local//NONSGML kigkonsult.se iCalcreator 2.10.5//
CALSCALE:GREGORIAN
X-WR-TIMEZONE:Europe/Dublin
BEGIN:VTIMEZONE
TZID:Etc/GMT-1
BEGIN:STANDARD
DTSTART:20010101T000000
TZOFFSETFROM:+0100
TZOFFSETTO:+0100
TZNAME:GMT +01:00
END:STANDARD
END:VTIMEZONE
BEGIN:VEVENT
UID:20260421T220051CEST-7324VwLLG5@horsealert.local
DTSTAMP:20260421T200451Z
CATEGORIES:Horse Alerts
DESCRIPTION:Genting Casino Nottingham 10 Year Anniversary Lady Amateur Ride
 rs Handicap
DTSTART:20170708T174000
LOCATION:England
SUMMARY:Horse Racing:Genting Casino Nottingham 10 Year Anniversary Lady Ama
 teur Riders Handicap
END:VEVENT
END:VCALENDAR
