BEGIN:VCALENDAR
VERSION:2.0
PRODID:-//horsealert.local//NONSGML kigkonsult.se iCalcreator 2.10.5//
CALSCALE:GREGORIAN
X-WR-TIMEZONE:Europe/Dublin
BEGIN:VTIMEZONE
TZID:Etc/GMT-1
BEGIN:STANDARD
DTSTART:20010101T000000
TZOFFSETFROM:+0100
TZOFFSETTO:+0100
TZNAME:GMT +01:00
END:STANDARD
END:VTIMEZONE
BEGIN:VEVENT
UID:20260421T220009CEST-2375DoUwRE@horsealert.local
DTSTAMP:20260421T200409Z
CATEGORIES:Horse Alerts
DESCRIPTION:Wainwright Building Partners 50th Birthday Handicap Hurdle
DTSTART:20170707T151500
LOCATION:England
SUMMARY:Horse Racing:Wainwright Building Partners 50th Birthday Handicap Hu
 rdle
END:VEVENT
END:VCALENDAR
