BEGIN:VCALENDAR
VERSION:2.0
PRODID:-//horsealert.local//NONSGML kigkonsult.se iCalcreator 2.10.5//
CALSCALE:GREGORIAN
X-WR-TIMEZONE:Europe/Dublin
BEGIN:VTIMEZONE
TZID:Etc/GMT-1
BEGIN:STANDARD
DTSTART:20010101T000000
TZOFFSETFROM:+0100
TZOFFSETTO:+0100
TZNAME:GMT +01:00
END:STANDARD
END:VTIMEZONE
BEGIN:VEVENT
UID:20260421T220108CEST-8433MWZVME@horsealert.local
DTSTAMP:20260421T200408Z
CATEGORIES:Horse Alerts
DESCRIPTION:Coral Charge (Registered As The Sprint Stakes) (Group 3)
DTSTART:20170708T135000
LOCATION:England
SUMMARY:Horse Racing:Coral Charge (Registered As The Sprint Stakes) (Group 
 3)
END:VEVENT
END:VCALENDAR
