BEGIN:VCALENDAR
VERSION:2.0
PRODID:-//horsealert.local//NONSGML kigkonsult.se iCalcreator 2.10.5//
CALSCALE:GREGORIAN
X-WR-TIMEZONE:Europe/Dublin
BEGIN:VTIMEZONE
TZID:Etc/GMT-1
BEGIN:STANDARD
DTSTART:20010101T000000
TZOFFSETFROM:+0100
TZOFFSETTO:+0100
TZNAME:GMT +01:00
END:STANDARD
END:VTIMEZONE
BEGIN:VEVENT
UID:20260421T233622CEST-33736ODsxV@horsealert.local
DTSTAMP:20260421T210422Z
CATEGORIES:Horse Alerts
DESCRIPTION:Computanet IT And Network Support Services Fillies' Handicap
DTSTART:20170708T171000
LOCATION:England
SUMMARY:Horse Racing:Computanet IT And Network Support Services Fillies' Ha
 ndicap
END:VEVENT
END:VCALENDAR
