BEGIN:VCALENDAR
VERSION:2.0
PRODID:-//horsealert.local//NONSGML kigkonsult.se iCalcreator 2.10.5//
CALSCALE:GREGORIAN
X-WR-TIMEZONE:Europe/Dublin
BEGIN:VTIMEZONE
TZID:Etc/GMT-1
BEGIN:STANDARD
DTSTART:20010101T000000
TZOFFSETFROM:+0100
TZOFFSETTO:+0100
TZNAME:GMT +01:00
END:STANDARD
END:VTIMEZONE
BEGIN:VEVENT
UID:20260421T215950CEST-3427pJoE4V@horsealert.local
DTSTAMP:20260421T190450Z
CATEGORIES:Horse Alerts
DESCRIPTION:Thatch Bar & Katies Kitchen (Q.R.) Race
DTSTART:20170707T202500
LOCATION:Eire
SUMMARY:Horse Racing:Thatch Bar & Katies Kitchen (Q.R.) Race
END:VEVENT
END:VCALENDAR
