BEGIN:VCALENDAR
VERSION:2.0
PRODID:-//horsealert.local//NONSGML kigkonsult.se iCalcreator 2.10.5//
CALSCALE:GREGORIAN
X-WR-TIMEZONE:Europe/Dublin
BEGIN:VTIMEZONE
TZID:Etc/GMT-1
BEGIN:STANDARD
DTSTART:20010101T000000
TZOFFSETFROM:+0100
TZOFFSETTO:+0100
TZNAME:GMT +01:00
END:STANDARD
END:VTIMEZONE
BEGIN:VEVENT
UID:20260421T215945CEST-0588JmJKSd@horsealert.local
DTSTAMP:20260421T190445Z
CATEGORIES:Horse Alerts
DESCRIPTION:Hennessy & Perrozzi Handicap (45-75)
DTSTART:20170707T185500
LOCATION:Eire
SUMMARY:Horse Racing:Hennessy & Perrozzi Handicap (45-75)
END:VEVENT
END:VCALENDAR
