BEGIN:VCALENDAR
VERSION:2.0
PRODID:-//horsealert.local//NONSGML kigkonsult.se iCalcreator 2.10.5//
CALSCALE:GREGORIAN
X-WR-TIMEZONE:Europe/Dublin
BEGIN:VTIMEZONE
TZID:Etc/GMT-1
BEGIN:STANDARD
DTSTART:20010101T000000
TZOFFSETFROM:+0100
TZOFFSETTO:+0100
TZNAME:GMT +01:00
END:STANDARD
END:VTIMEZONE
BEGIN:VEVENT
UID:20260421T233636CEST-6979K8VzIF@horsealert.local
DTSTAMP:20260421T210436Z
CATEGORIES:Horse Alerts
DESCRIPTION:Perth Racecourse Supports Racing Staff Week Handicap Hurdle
DTSTART:20170705T151000
LOCATION:Scotland
SUMMARY:Horse Racing:Perth Racecourse Supports Racing Staff Week Handicap H
 urdle
END:VEVENT
END:VCALENDAR
