BEGIN:VCALENDAR
VERSION:2.0
PRODID:-//horsealert.local//NONSGML kigkonsult.se iCalcreator 2.10.5//
CALSCALE:GREGORIAN
X-WR-TIMEZONE:Europe/Dublin
BEGIN:VTIMEZONE
TZID:Etc/GMT-1
BEGIN:STANDARD
DTSTART:20010101T000000
TZOFFSETFROM:+0100
TZOFFSETTO:+0100
TZNAME:GMT +01:00
END:STANDARD
END:VTIMEZONE
BEGIN:VEVENT
UID:20260421T220012CEST-7843av9NT1@horsealert.local
DTSTAMP:20260421T200412Z
CATEGORIES:Horse Alerts
DESCRIPTION:Wheaton Lamb & Burrows Handicap Hurdle
DTSTART:20170704T195000
LOCATION:England
SUMMARY:Horse Racing:Wheaton Lamb & Burrows Handicap Hurdle
END:VEVENT
END:VCALENDAR
