BEGIN:VCALENDAR
VERSION:2.0
PRODID:-//horsealert.local//NONSGML kigkonsult.se iCalcreator 2.10.5//
CALSCALE:GREGORIAN
X-WR-TIMEZONE:Europe/Dublin
BEGIN:VTIMEZONE
TZID:Etc/GMT-1
BEGIN:STANDARD
DTSTART:20010101T000000
TZOFFSETFROM:+0100
TZOFFSETTO:+0100
TZNAME:GMT +01:00
END:STANDARD
END:VTIMEZONE
BEGIN:VEVENT
UID:20260421T233627CEST-6216UmZ7P4@horsealert.local
DTSTAMP:20260421T210427Z
CATEGORIES:Horse Alerts
DESCRIPTION:Racing UK On Sky 432 Handicap (Div 1)
DTSTART:20170704T170000
LOCATION:Scotland
SUMMARY:Horse Racing:Racing UK On Sky 432 Handicap (Div 1)
END:VEVENT
END:VCALENDAR
