BEGIN:VCALENDAR
VERSION:2.0
PRODID:-//horsealert.local//NONSGML kigkonsult.se iCalcreator 2.10.5//
CALSCALE:GREGORIAN
X-WR-TIMEZONE:Europe/Dublin
BEGIN:VTIMEZONE
TZID:Etc/GMT-1
BEGIN:STANDARD
DTSTART:20010101T000000
TZOFFSETFROM:+0100
TZOFFSETTO:+0100
TZNAME:GMT +01:00
END:STANDARD
END:VTIMEZONE
BEGIN:VEVENT
UID:20260421T220058CEST-9293tB4uS6@horsealert.local
DTSTAMP:20260421T200458Z
CATEGORIES:Horse Alerts
DESCRIPTION:Daily Racing Specials At 188Bet/EBF Stallions Novice Stakes (Pl
 us 10)
DTSTART:20170704T184000
LOCATION:Wales
SUMMARY:Horse Racing:Daily Racing Specials At 188Bet/EBF Stallions Novice S
 takes (Plus 10)
END:VEVENT
END:VCALENDAR
