BEGIN:VCALENDAR
VERSION:2.0
PRODID:-//horsealert.local//NONSGML kigkonsult.se iCalcreator 2.10.5//
CALSCALE:GREGORIAN
X-WR-TIMEZONE:Europe/Dublin
BEGIN:VTIMEZONE
TZID:Etc/GMT-1
BEGIN:STANDARD
DTSTART:20010101T000000
TZOFFSETFROM:+0100
TZOFFSETTO:+0100
TZNAME:GMT +01:00
END:STANDARD
END:VTIMEZONE
BEGIN:VEVENT
UID:20260421T215944CEST-9946s6Funv@horsealert.local
DTSTAMP:20260421T190444Z
CATEGORIES:Horse Alerts
DESCRIPTION:Follow Us On Twitter At hamiltonparkrc Handicap (Gentleman Amat
 eur Riders)
DTSTART:20170703T181500
LOCATION:Scotland
SUMMARY:Horse Racing:Follow Us On Twitter At hamiltonparkrc Handicap (Gentl
 eman Amateur Riders)
END:VEVENT
END:VCALENDAR
