BEGIN:VCALENDAR
VERSION:2.0
PRODID:-//horsealert.local//NONSGML kigkonsult.se iCalcreator 2.10.5//
CALSCALE:GREGORIAN
X-WR-TIMEZONE:Europe/Dublin
BEGIN:VTIMEZONE
TZID:Etc/GMT-1
BEGIN:STANDARD
DTSTART:20010101T000000
TZOFFSETFROM:+0100
TZOFFSETTO:+0100
TZNAME:GMT +01:00
END:STANDARD
END:VTIMEZONE
BEGIN:VEVENT
UID:20260421T220011CEST-7827Zmi9Xl@horsealert.local
DTSTAMP:20260421T200411Z
CATEGORIES:Horse Alerts
DESCRIPTION:Berks\, Bucks & Oxon Royal Arch Freemasons' Maiden Stakes
DTSTART:20170702T151000
LOCATION:England
SUMMARY:Horse Racing:Berks\, Bucks & Oxon Royal Arch Freemasons' Maiden Sta
 kes
END:VEVENT
END:VCALENDAR
