BEGIN:VCALENDAR
VERSION:2.0
PRODID:-//horsealert.local//NONSGML kigkonsult.se iCalcreator 2.10.5//
CALSCALE:GREGORIAN
X-WR-TIMEZONE:Europe/Dublin
BEGIN:VTIMEZONE
TZID:Etc/GMT-1
BEGIN:STANDARD
DTSTART:20010101T000000
TZOFFSETFROM:+0100
TZOFFSETTO:+0100
TZNAME:GMT +01:00
END:STANDARD
END:VTIMEZONE
BEGIN:VEVENT
UID:20260421T220053CEST-7351r17FSM@horsealert.local
DTSTAMP:20260421T200453Z
CATEGORIES:Horse Alerts
DESCRIPTION:Stobart Rail Northumberland Plate Handicap (Heritage)
DTSTART:20170701T153000
LOCATION:England
SUMMARY:Horse Racing:Stobart Rail Northumberland Plate Handicap (Heritage)
END:VEVENT
END:VCALENDAR
