BEGIN:VCALENDAR
VERSION:2.0
PRODID:-//horsealert.local//NONSGML kigkonsult.se iCalcreator 2.10.5//
CALSCALE:GREGORIAN
X-WR-TIMEZONE:Europe/Dublin
BEGIN:VTIMEZONE
TZID:Etc/GMT-1
BEGIN:STANDARD
DTSTART:20010101T000000
TZOFFSETFROM:+0100
TZOFFSETTO:+0100
TZNAME:GMT +01:00
END:STANDARD
END:VTIMEZONE
BEGIN:VEVENT
UID:20260421T220008CEST-9542U5Nl0a@horsealert.local
DTSTAMP:20260421T200408Z
CATEGORIES:Horse Alerts
DESCRIPTION:Panelcraft Superior Access Panels British Stallion Studs EBF Fi
 llies' Novice Stakes (Plus 10)
DTSTART:20170701T182500
LOCATION:England
SUMMARY:Horse Racing:Panelcraft Superior Access Panels British Stallion Stu
 ds EBF Fillies' Novice Stakes (Plus 10)
END:VEVENT
END:VCALENDAR
