BEGIN:VCALENDAR
VERSION:2.0
PRODID:-//horsealert.local//NONSGML kigkonsult.se iCalcreator 2.10.5//
CALSCALE:GREGORIAN
X-WR-TIMEZONE:Europe/Dublin
BEGIN:VTIMEZONE
TZID:Etc/GMT-1
BEGIN:STANDARD
DTSTART:20010101T000000
TZOFFSETFROM:+0100
TZOFFSETTO:+0100
TZNAME:GMT +01:00
END:STANDARD
END:VTIMEZONE
BEGIN:VEVENT
UID:20260421T233308CEST-8331GKsVUO@horsealert.local
DTSTAMP:20260421T210408Z
CATEGORIES:Horse Alerts
DESCRIPTION:shakespearestone.co.uk Conditional Jockeys' Training Series Fin
 al Handicap Hurdle
DTSTART:20170628T172000
LOCATION:England
SUMMARY:Horse Racing:shakespearestone.co.uk Conditional Jockeys' Training S
 eries Final Handicap Hurdle
END:VEVENT
END:VCALENDAR
