BEGIN:VCALENDAR
VERSION:2.0
PRODID:-//horsealert.local//NONSGML kigkonsult.se iCalcreator 2.10.5//
CALSCALE:GREGORIAN
X-WR-TIMEZONE:Europe/Dublin
BEGIN:VTIMEZONE
TZID:Etc/GMT-1
BEGIN:STANDARD
DTSTART:20010101T000000
TZOFFSETFROM:+0100
TZOFFSETTO:+0100
TZNAME:GMT +01:00
END:STANDARD
END:VTIMEZONE
BEGIN:VEVENT
UID:20260421T233458CEST-6118V65D6J@horsealert.local
DTSTAMP:20260421T210458Z
CATEGORIES:Horse Alerts
DESCRIPTION:Shakespeare Stone Leads The Field Novices' Hurdle (Qualifier)
DTSTART:20170628T162000
LOCATION:England
SUMMARY:Horse Racing:Shakespeare Stone Leads The Field Novices' Hurdle (Qua
 lifier)
END:VEVENT
END:VCALENDAR
