BEGIN:VCALENDAR
VERSION:2.0
PRODID:-//horsealert.local//NONSGML kigkonsult.se iCalcreator 2.10.5//
CALSCALE:GREGORIAN
X-WR-TIMEZONE:Europe/Dublin
BEGIN:VTIMEZONE
TZID:Etc/GMT-1
BEGIN:STANDARD
DTSTART:20010101T000000
TZOFFSETFROM:+0100
TZOFFSETTO:+0100
TZNAME:GMT +01:00
END:STANDARD
END:VTIMEZONE
BEGIN:VEVENT
UID:20260421T233618CEST-6763Jbckaw@horsealert.local
DTSTAMP:20260421T210418Z
CATEGORIES:Horse Alerts
DESCRIPTION:Resin Stone Specialists Standard NH Flat Race (Conds/Amateurs)
DTSTART:20170628T152000
LOCATION:England
SUMMARY:Horse Racing:Resin Stone Specialists Standard NH Flat Race (Conds/A
 mateurs)
END:VEVENT
END:VCALENDAR
