BEGIN:VCALENDAR
VERSION:2.0
PRODID:-//horsealert.local//NONSGML kigkonsult.se iCalcreator 2.10.5//
CALSCALE:GREGORIAN
X-WR-TIMEZONE:Europe/Dublin
BEGIN:VTIMEZONE
TZID:Etc/GMT-1
BEGIN:STANDARD
DTSTART:20010101T000000
TZOFFSETFROM:+0100
TZOFFSETTO:+0100
TZNAME:GMT +01:00
END:STANDARD
END:VTIMEZONE
BEGIN:VEVENT
UID:20260421T233351CEST-094086kW9z@horsealert.local
DTSTAMP:20260421T210451Z
CATEGORIES:Horse Alerts
DESCRIPTION:Bet toteWin Handicap Chase
DTSTART:20170625T162000
LOCATION:England
SUMMARY:Horse Racing:Bet toteWin Handicap Chase
END:VEVENT
END:VCALENDAR
