BEGIN:VCALENDAR
VERSION:2.0
PRODID:-//horsealert.local//NONSGML kigkonsult.se iCalcreator 2.10.5//
CALSCALE:GREGORIAN
X-WR-TIMEZONE:Europe/Dublin
BEGIN:VTIMEZONE
TZID:Etc/GMT-1
BEGIN:STANDARD
DTSTART:20010101T000000
TZOFFSETFROM:+0100
TZOFFSETTO:+0100
TZNAME:GMT +01:00
END:STANDARD
END:VTIMEZONE
BEGIN:VEVENT
UID:20260421T233443CEST-6403GHDVAH@horsealert.local
DTSTAMP:20260421T210443Z
CATEGORIES:Horse Alerts
DESCRIPTION:Royal Ascot Betting At 188Bet EBF Stallions Novice Stakes (Plus
  10)
DTSTART:20170624T141000
LOCATION:England
SUMMARY:Horse Racing:Royal Ascot Betting At 188Bet EBF Stallions Novice Sta
 kes (Plus 10)
END:VEVENT
END:VCALENDAR
