BEGIN:VCALENDAR
VERSION:2.0
PRODID:-//horsealert.local//NONSGML kigkonsult.se iCalcreator 2.10.5//
CALSCALE:GREGORIAN
X-WR-TIMEZONE:Europe/Dublin
BEGIN:VTIMEZONE
TZID:Etc/GMT-1
BEGIN:STANDARD
DTSTART:20010101T000000
TZOFFSETFROM:+0100
TZOFFSETTO:+0100
TZNAME:GMT +01:00
END:STANDARD
END:VTIMEZONE
BEGIN:VEVENT
UID:20260421T233456CEST-5127oBAMpX@horsealert.local
DTSTAMP:20260421T210456Z
CATEGORIES:Horse Alerts
DESCRIPTION:Qatar Coupe De France Group 1 Arabian Stakes
DTSTART:20170623T123500
LOCATION:France
SUMMARY:Horse Racing:Qatar Coupe De France Group 1 Arabian Stakes
END:VEVENT
END:VCALENDAR
