BEGIN:VCALENDAR
VERSION:2.0
PRODID:-//horsealert.local//NONSGML kigkonsult.se iCalcreator 2.10.5//
CALSCALE:GREGORIAN
X-WR-TIMEZONE:Europe/Dublin
BEGIN:VTIMEZONE
TZID:Etc/GMT-1
BEGIN:STANDARD
DTSTART:20010101T000000
TZOFFSETFROM:+0100
TZOFFSETTO:+0100
TZNAME:GMT +01:00
END:STANDARD
END:VTIMEZONE
BEGIN:VEVENT
UID:20260421T233531CEST-5659v1dAGO@horsealert.local
DTSTAMP:20260421T210431Z
CATEGORIES:Horse Alerts
DESCRIPTION:Joy And Jonathan Martin Golden Wedding Celebration Handicap Cha
 se
DTSTART:20170622T191000
LOCATION:Wales
SUMMARY:Horse Racing:Joy And Jonathan Martin Golden Wedding Celebration Han
 dicap Chase
END:VEVENT
END:VCALENDAR
